BEGIN:VCALENDAR
VERSION:2.0
PRODID:-//https://www.sdomingos.com.br/site///NONSGML kigkonsult.se iCalcreator 2.10.15//
METHOD:PUBLISH
BEGIN:VEVENT
UID:20260425T183931UTC-8242JPXtMz@https://www.sdomingos.com.br/site/
DTSTAMP:20260425T183931Z
DESCRIPTION: https://www.sdomingos.com.br/site/index.php/component/rsevents
 pro/evento/129-mostra-cultural?Itemid=101
DTSTART;VALUE=DATE:20251025
LOCATION:Colégio São Domingos (Rua Monte Alegre\, 1083 - Perdizes - São Pau
 lo - SP)
SUMMARY:Mostra Cultural
URL:https://www.sdomingos.com.br/site/index.php/component/rseventspro/event
 o/129-mostra-cultural?Itemid=101
END:VEVENT
END:VCALENDAR
