BEGIN:VCALENDAR
VERSION:2.0
PRODID:-//https://www.sdomingos.com.br/site///NONSGML kigkonsult.se iCalcreator 2.10.15//
METHOD:PUBLISH
BEGIN:VEVENT
UID:20260425T000226UTC-9530roKjVh@https://www.sdomingos.com.br/site/
DTSTAMP:20260425T000226Z
DESCRIPTION: https://www.sdomingos.com.br/site/index.php/component/rsevents
 pro/evento/131-projeto-de-educacao-fisica?Itemid=101
DTSTART;VALUE=DATE:20251108
LOCATION:Colégio São Domingos (Rua Monte Alegre\, 1083 - Perdizes - São Pau
 lo - SP)
SUMMARY:Projeto de Educação Física 
URL:https://www.sdomingos.com.br/site/index.php/component/rseventspro/event
 o/131-projeto-de-educacao-fisica?Itemid=101
END:VEVENT
END:VCALENDAR
