BEGIN:VCALENDAR
VERSION:2.0
PRODID:-//https://www.sdomingos.com.br/site///NONSGML kigkonsult.se iCalcreator 2.10.15//
METHOD:PUBLISH
BEGIN:VEVENT
UID:20260423T200942UTC-9679Rkvfd6@https://www.sdomingos.com.br/site/
DTSTAMP:20260423T200942Z
DESCRIPTION: https://www.sdomingos.com.br/site/index.php/component/rsevents
 pro/evento/136-dia-da-sustentabilidade?Itemid=101
DTSTART;VALUE=DATE:20251129
LOCATION:Colégio São Domingos (Rua Monte Alegre\, 1083 - Perdizes - São Pau
 lo - SP)
SUMMARY:Dia da Sustentabilidade
URL:https://www.sdomingos.com.br/site/index.php/component/rseventspro/event
 o/136-dia-da-sustentabilidade?Itemid=101
END:VEVENT
END:VCALENDAR
